BEGIN:VCALENDAR
VERSION:2.0
PRODID:-//DigIT Hub AI - ECPv6.2.8.2//NONSGML v1.0//EN
CALSCALE:GREGORIAN
METHOD:PUBLISH
X-ORIGINAL-URL:https://digithubai.se
X-WR-CALDESC:Händelser för DigIT Hub AI
REFRESH-INTERVAL;VALUE=DURATION:PT1H
X-Robots-Tag:noindex
X-PUBLISHED-TTL:PT1H
BEGIN:VTIMEZONE
TZID:Europe/Stockholm
BEGIN:DAYLIGHT
TZOFFSETFROM:+0100
TZOFFSETTO:+0200
TZNAME:CEST
DTSTART:20230326T010000
END:DAYLIGHT
BEGIN:STANDARD
TZOFFSETFROM:+0200
TZOFFSETTO:+0100
TZNAME:CET
DTSTART:20231029T010000
END:STANDARD
END:VTIMEZONE
BEGIN:VEVENT
DTSTART;TZID=Europe/Stockholm:20230831T083000
DTEND;TZID=Europe/Stockholm:20230831T120000
DTSTAMP:20260424T070243
CREATED:20230620T095704Z
LAST-MODIFIED:20230901T083705Z
UID:406-1693470600-1693483200@digithubai.se
SUMMARY:Har AI någon affärsnytta?
DESCRIPTION:Ladda ner presentationen från evenemanget Har AI någon affärsnytta: \nPresentation DigIT Hub AI_20230831 \n 
URL:https://digithubai.se/event/ai-affarsnytta/
LOCATION:Media Evolution\, Stora Varvsgatan 6a\, Malmö\, 211 19\, Sverige
CATEGORIES:Blue Science Park,IUC Syd,Jämställd Utveckling Skåne,Lunds Universitet,Malmö Universitet,Media Evolution,Mobile Heights,Netport,Packbridge,Seminarium,Sustainable Business Hub,Techtank
ATTACH;FMTTYPE=image/png:https://digithubai.se/wp-content/uploads/2023/06/16.png
END:VEVENT
END:VCALENDAR