BEGIN:VCALENDAR
VERSION:2.0
PRODID:-//DigIT Hub AI - ECPv6.2.8.2//NONSGML v1.0//EN
CALSCALE:GREGORIAN
METHOD:PUBLISH
X-WR-CALNAME:DigIT Hub AI
X-ORIGINAL-URL:https://digithubai.se
X-WR-CALDESC:Händelser för DigIT Hub AI
REFRESH-INTERVAL;VALUE=DURATION:PT1H
X-Robots-Tag:noindex
X-PUBLISHED-TTL:PT1H
BEGIN:VTIMEZONE
TZID:Europe/Stockholm
BEGIN:DAYLIGHT
TZOFFSETFROM:+0100
TZOFFSETTO:+0200
TZNAME:CEST
DTSTART:20230326T010000
END:DAYLIGHT
BEGIN:STANDARD
TZOFFSETFROM:+0200
TZOFFSETTO:+0100
TZNAME:CET
DTSTART:20231029T010000
END:STANDARD
END:VTIMEZONE
BEGIN:VEVENT
DTSTART;TZID=Europe/Stockholm:20230418T093000
DTEND;TZID=Europe/Stockholm:20230418T153000
DTSTAMP:20260424T132504
CREATED:20230119T144808Z
LAST-MODIFIED:20230413T092958Z
UID:380-1681810200-1681831800@digithubai.se
SUMMARY:Hållbar AI för mindre företag
DESCRIPTION:Gå till eventsida för information och registrering ➜\nAnmälan stänger 14 april kl. 10.00.
URL:https://digithubai.se/event/fika-till-fika-workshop-hos-lth/
CATEGORIES:Lunds Universitet,Seminarium
ATTACH;FMTTYPE=image/png:https://digithubai.se/wp-content/uploads/2023/01/AI-Eventbrite-Banners-2.png
END:VEVENT
END:VCALENDAR