BEGIN:VCALENDAR
VERSION:2.0
PRODID:-//DigIT Hub AI - ECPv6.2.8.2//NONSGML v1.0//EN
CALSCALE:GREGORIAN
METHOD:PUBLISH
X-WR-CALNAME:DigIT Hub AI
X-ORIGINAL-URL:https://digithubai.se
X-WR-CALDESC:Händelser för DigIT Hub AI
REFRESH-INTERVAL;VALUE=DURATION:PT1H
X-Robots-Tag:noindex
X-PUBLISHED-TTL:PT1H
BEGIN:VTIMEZONE
TZID:Europe/Stockholm
BEGIN:DAYLIGHT
TZOFFSETFROM:+0100
TZOFFSETTO:+0200
TZNAME:CEST
DTSTART:20230326T010000
END:DAYLIGHT
BEGIN:STANDARD
TZOFFSETFROM:+0200
TZOFFSETTO:+0100
TZNAME:CET
DTSTART:20231029T010000
END:STANDARD
END:VTIMEZONE
BEGIN:VEVENT
DTSTART;TZID=Europe/Stockholm:20230126T113000
DTEND;TZID=Europe/Stockholm:20230126T130000
DTSTAMP:20260424T172827
CREATED:20221219T112010Z
LAST-MODIFIED:20221219T112010Z
UID:375-1674732600-1674738000@digithubai.se
SUMMARY:Hur kan AI vara ditt företags problemlösare?
DESCRIPTION:Gå till eventsida för information och registrering ➜
URL:https://digithubai.se/event/ai-foretags-problemlosare/
CATEGORIES:Packbridge,Seminarium
ATTACH;FMTTYPE=image/png:https://digithubai.se/wp-content/uploads/2022/12/Hur-kan-AI-vara-ditt-foretags-problemlosare.png
END:VEVENT
END:VCALENDAR